BEGIN:VCALENDAR
VERSION:2.0
PRODID:-//Drosi Bikes - ECPv6.15.20//NONSGML v1.0//EN
CALSCALE:GREGORIAN
METHOD:PUBLISH
X-WR-CALNAME:Drosi Bikes
X-ORIGINAL-URL:https://drosibikes.org
X-WR-CALDESC:Events for Drosi Bikes
REFRESH-INTERVAL;VALUE=DURATION:PT1H
X-Robots-Tag:noindex
X-PUBLISHED-TTL:PT1H
BEGIN:VTIMEZONE
TZID:Africa/Abidjan
BEGIN:STANDARD
TZOFFSETFROM:+0000
TZOFFSETTO:+0000
TZNAME:GMT
DTSTART:20250101T000000
END:STANDARD
END:VTIMEZONE
BEGIN:VEVENT
DTSTART;TZID=Africa/Abidjan:20260507T170000
DTEND;TZID=Africa/Abidjan:20260507T183000
DTSTAMP:20260423T123032
CREATED:20260417T112259Z
LAST-MODIFIED:20260417T114019Z
UID:14853-1778173200-1778178600@drosibikes.org
SUMMARY:Women’s Beginner Bike Maintenance Workshop: Get Your Bike Ready for Summer
DESCRIPTION:A relaxed\, women’s beginner workshop to build confidence in bike maintenance. Learn punctures\, cleaning & safety basics.\n\n\nWant to feel more confident looking after your bike? \nThis women’s beginner-friendly workshop is all about helping you get your bike ready for summer riding \nJoin us at the Drosi workshop for a relaxed\, hands-on session led by female mechanics\, designed to build confidence in a supportive and welcoming space. \nWhat we’ll cover: \n\nCleaning and basic maintenance\nFixing a puncture\nM-checks (a simple way to check your bike is safe to ride)\n\nYou’ll leave with practical skills\, more confidence\, and a better understanding of your bike \n  \nWho is this for?\nThis session is for women (including trans and non-binary people who feel comfortable in a women-centred space). \nIdeal for beginners or anyone who wants a refresher in a friendly\, supportive environment. \n  \nWhat to bring:\n\nYour bike (recommended but not essential)\nClothes you don’t mind getting a bit oily\n\n  \nGood to know:\n\nLed by two experienced female mechanics\nSmall group size to keep things relaxed and hands-on
URL:https://drosibikes.org/event/womens-beginner-bike-maintenance/
LOCATION:LL20 8RB\, Drosi Bikes East Street\, Llangollen\, LL20 8RB\, Llangollen\, LL20 8RB\, GB
CATEGORIES:Drosi Women
ATTACH;FMTTYPE=image/jpeg:https://drosibikes.org/wp-content/uploads/2026/04/female-bike-workshop_cropped-1-scaled.jpg
END:VEVENT
BEGIN:VEVENT
DTSTART;TZID=Africa/Abidjan:20260519T140000
DTEND;TZID=Africa/Abidjan:20260519T175000
DTSTAMP:20260423T123032
CREATED:20260114T132756Z
LAST-MODIFIED:20260114T132756Z
UID:8661-1779199200-1779213000@drosibikes.org
SUMMARY:Fix & Learn Cycle Maintenance - May
DESCRIPTION:Got a squeaky brake you don’t know how to fix? Learn how to fix an issue with your bike with a 30 minute workshop with a qualified mechanic.\n\n\nWhat \nGot a squeaky brake you’re not sure how to fix? Or a broken chain? Dodgy gears? Or maybe just a puncture you’re not sure how to tackle…. \nBook your slot and pop down with your bike during our ‘Fix and Learn’ workshops\, where we’ll show you how to identify and fix the issue. All equipment is provided and no experience is necessary! \nYou will join us for a half hour 1:1 session where a Drosi mechanic will work with you to fix a specific issue with your bike\, if we can’t fix it in the half hour and it’s a bigger job than you thought we will be happy to advise on the ‘what next’. \n \nWho \nThe session is open for anyone aged 8+  (under 14’s require a supervising adult). You don’t need any prior knowledge of bike maintenance to attend. \n \nCost \nThis programme is completely FREE to attend. We are very grateful to The National Lottery who fully fund this programme. (If any parts second hand or new are needed there will be an additional cost for these) \n \nWhen \nRunning monthly – check out our page for other dates and times available. \nWe tend to try and keep the after school slots for young people\,  however\, if you are working please feel free to book a time you can attend.
URL:https://drosibikes.org/event/fix-learn-cycle-maintenance-may/
LOCATION:LL20 8RB\, Drosi Bikes East Street\, Llangollen\, LL20 8RB\, Llangollen\, LL20 8RB\, GB
ATTACH;FMTTYPE=image/jpeg:https://drosibikes.org/wp-content/uploads/2025/07/4335_image-2-scaled.jpg
END:VEVENT
BEGIN:VEVENT
DTSTART;TZID=Africa/Abidjan:20260714T140000
DTEND;TZID=Africa/Abidjan:20260714T175000
DTSTAMP:20260423T123032
CREATED:20260114T132849Z
LAST-MODIFIED:20260114T132849Z
UID:8664-1784037600-1784051400@drosibikes.org
SUMMARY:Fix & Learn Cycle Maintenance - July
DESCRIPTION:Got a squeaky brake you don’t know how to fix? Learn how to fix an issue with your bike with a 30 minute workshop with a qualified mechanic.\n\n\nWhat \nGot a squeaky brake you’re not sure how to fix? Or a broken chain? Dodgy gears? Or maybe just a puncture you’re not sure how to tackle…. \nBook your slot and pop down with your bike during our ‘Fix and Learn’ workshops\, where we’ll show you how to identify and fix the issue. All equipment is provided and no experience is necessary! \nYou will join us for a half hour 1:1 session where a Drosi mechanic will work with you to fix a specific issue with your bike\, if we can’t fix it in the half hour and it’s a bigger job than you thought we will be happy to advise on the ‘what next’. \n \nWho \nThe session is open for anyone aged 8+  (under 14’s require a supervising adult). You don’t need any prior knowledge of bike maintenance to attend. \n \nCost \nThis programme is completely FREE to attend. We are very grateful to The National Lottery who fully fund this programme. (If any parts second hand or new are needed there will be an additional cost for these) \n \nWhen \nRunning monthly – check out our page for other dates and times available. \nWe tend to try and keep the after school slots for young people\,  however\, if you are working please feel free to book a time you can attend.
URL:https://drosibikes.org/event/fix-learn-cycle-maintenance-july-2/
LOCATION:LL20 8RB\, Drosi Bikes East Street\, Llangollen\, LL20 8RB\, Llangollen\, LL20 8RB\, GB
ATTACH;FMTTYPE=image/jpeg:https://drosibikes.org/wp-content/uploads/2025/07/4330_image.jpg
END:VEVENT
BEGIN:VEVENT
DTSTART;TZID=Africa/Abidjan:20260908T140000
DTEND;TZID=Africa/Abidjan:20260908T175000
DTSTAMP:20260423T123032
CREATED:20260114T132952Z
LAST-MODIFIED:20260114T132952Z
UID:8667-1788876000-1788889800@drosibikes.org
SUMMARY:Fix & Learn Cycle Maintenance - September
DESCRIPTION:Got a squeaky brake you don’t know how to fix? Learn how to fix an issue with your bike with a 30 minute workshop with a qualified mechanic.\n\n\nWhat \nGot a squeaky brake you’re not sure how to fix? Or a broken chain? Dodgy gears? Or maybe just a puncture you’re not sure how to tackle…. \nBook your slot and pop down with your bike during our ‘Fix and Learn’ workshops\, where we’ll show you how to identify and fix the issue. All equipment is provided and no experience is necessary! \nYou will join us for a half hour 1:1 session where a Drosi mechanic will work with you to fix a specific issue with your bike\, if we can’t fix it in the half hour and it’s a bigger job than you thought we will be happy to advise on the ‘what next’. \n \nWho \nThe session is open for anyone aged 8+  (under 14’s require a supervising adult). You don’t need any prior knowledge of bike maintenance to attend. \n \nCost \nThis programme is completely FREE to attend. We are very grateful to The National Lottery who fully fund this programme. (If any parts second hand or new are needed there will be an additional cost for these) \n \nWhen \nRunning monthly – check out our page for other dates and times available. \nWe tend to try and keep the after school slots for young people\,  however\, if you are working please feel free to book a time you can attend.
URL:https://drosibikes.org/event/fix-learn-cycle-maintenance-september-2/
LOCATION:LL20 8RB\, Drosi Bikes East Street\, Llangollen\, LL20 8RB\, Llangollen\, LL20 8RB\, GB
ATTACH;FMTTYPE=image/jpeg:https://drosibikes.org/wp-content/uploads/2025/07/4330_image.jpg
END:VEVENT
BEGIN:VEVENT
DTSTART;TZID=Africa/Abidjan:20260926T090000
DTEND;TZID=Africa/Abidjan:20260926T120000
DTSTAMP:20260423T123032
CREATED:20251128T151135Z
LAST-MODIFIED:20251128T154312Z
UID:6205-1790413200-1790424000@drosibikes.org
SUMMARY:Introduction to Bike Maintenance - Level 1
DESCRIPTION:an intro into bike maintenance; you’ll work to understand key components of your bike and how to safety check and maintain them\n\n\nDesigned for complete beginners and those with rusty knowledge. \nCourse Content: \n\nSafety checking\nRemoving wheels and fixing punctures\nErgonomics (setting up your bike to fit you)\nBike repair tools and lubricants (what you need to keep your bike in top condition)\nCleaning and lubricating\n\n\nFree tea\, coffee and biscuits!\n\nAll tools are provided but trainees are encouraged to bring their own bikes to work on. \nPLEASE NOTE: We require a minimum of 2 people to run these workshops. If we are unable to reach our minimum number we will sadly have to cancel. In which case you will be fully refunded and we will do our best to reschedule and get you booked on to any future workshops. \n  \nTHE DROSI WAY \nDrosi Bikes’ sole purpose is to address the lack of diversity in the cycling community and to offer accessible solutions to climate change\, reducing the overall number of car journeys made and creating communities that are safer\, more cohesive and full of healthy\, happy individuals. \nOh! Did we mention that we’re also a Social Enterprise? This means that any profit we make Does not come at the expense of others or at the expense of the wild places we love. \nDrosi Bikes puts people and the planet first.
URL:https://drosibikes.org/event/introduction-to-bike-maintenance-level-1-sept26/
LOCATION:Drosi Bikes\, Parade Street\, Llangollen\, LL20 8PW\, Llangollen\, LL20 8PW\, GB
CATEGORIES:Workshops & Training
ATTACH;FMTTYPE=image/jpeg:https://drosibikes.org/wp-content/uploads/2025/11/6205_image-scaled.jpg
END:VEVENT
BEGIN:VEVENT
DTSTART;TZID=Africa/Abidjan:20260926T133000
DTEND;TZID=Africa/Abidjan:20260926T163000
DTSTAMP:20260423T123032
CREATED:20251128T152935Z
LAST-MODIFIED:20251128T153844Z
UID:6220-1790429400-1790440200@drosibikes.org
SUMMARY:Introduction to Bike Maintenance - Level 2
DESCRIPTION:Building up your bike maintenance skills\, you’ll work to gain a detailed appreciation of brakes and gears\n\n\nDesigned for people with basic bike maintenance experience and those with rusty knowledge. \nCourse Content \n\nChanging brake pads\nAdjusting cable brake systems (this does not include hydraulic brakes)\nAdjusting gears\nReplacing brake and gear cables\n\n\nFree tea and coffee (and we won’t forget the biscuits!)\n\n  \nAll tools are provided but trainees are encouraged to bring their own bikes to work on. \n  \nPLEASE NOTE: We require a minimum of 2 people to run these workshops. If we are unable to reach our minimum number we will sadly have to cancel. In which case you will be fully refunded and we will do our best to reschedule and get you booked on to any future workshops. \n  \nTHE DROSI WAY \nDrosi Bikes’ sole purpose is to address the lack of diversity in the cycling community and to offer accessible solutions to climate change\, reducing the overall number of car journeys made and creating communities that are safer\, more cohesive and full of healthy\, happy individuals. \nOh! Did we mention that we’re also a Social Enterprise? This means that any profit we make Does not come at the expense of others or at the expense of the wild places we love. \nDrosi Bikes puts people and the planet first.
URL:https://drosibikes.org/event/introduction-to-bike-maintenance-level-2-sept26/
LOCATION:Drosi Bikes\, Parade Street\, Llangollen\, LL20 8PW\, Llangollen\, LL20 8PW\, GB
CATEGORIES:Workshops & Training
ATTACH;FMTTYPE=image/jpeg:https://drosibikes.org/wp-content/uploads/2025/11/PXL_20250620_105657244.PORTRAIT-scaled.jpg
END:VEVENT
END:VCALENDAR