BEGIN:VCALENDAR
VERSION:2.0
PRODID:-//Drosi Bikes - ECPv6.15.20//NONSGML v1.0//EN
CALSCALE:GREGORIAN
METHOD:PUBLISH
X-ORIGINAL-URL:https://drosibikes.org
X-WR-CALDESC:Events for Drosi Bikes
REFRESH-INTERVAL;VALUE=DURATION:PT1H
X-Robots-Tag:noindex
X-PUBLISHED-TTL:PT1H
BEGIN:VTIMEZONE
TZID:Europe/London
BEGIN:DAYLIGHT
TZOFFSETFROM:+0000
TZOFFSETTO:+0100
TZNAME:BST
DTSTART:20230326T010000
END:DAYLIGHT
BEGIN:STANDARD
TZOFFSETFROM:+0100
TZOFFSETTO:+0000
TZNAME:GMT
DTSTART:20231029T010000
END:STANDARD
BEGIN:DAYLIGHT
TZOFFSETFROM:+0000
TZOFFSETTO:+0100
TZNAME:BST
DTSTART:20240331T010000
END:DAYLIGHT
BEGIN:STANDARD
TZOFFSETFROM:+0100
TZOFFSETTO:+0000
TZNAME:GMT
DTSTART:20241027T010000
END:STANDARD
BEGIN:DAYLIGHT
TZOFFSETFROM:+0000
TZOFFSETTO:+0100
TZNAME:BST
DTSTART:20250330T010000
END:DAYLIGHT
BEGIN:STANDARD
TZOFFSETFROM:+0100
TZOFFSETTO:+0000
TZNAME:GMT
DTSTART:20251026T010000
END:STANDARD
BEGIN:DAYLIGHT
TZOFFSETFROM:+0000
TZOFFSETTO:+0100
TZNAME:BST
DTSTART:20260329T010000
END:DAYLIGHT
BEGIN:STANDARD
TZOFFSETFROM:+0100
TZOFFSETTO:+0000
TZNAME:GMT
DTSTART:20261025T010000
END:STANDARD
END:VTIMEZONE
BEGIN:VTIMEZONE
TZID:UTC
BEGIN:STANDARD
TZOFFSETFROM:+0000
TZOFFSETTO:+0000
TZNAME:UTC
DTSTART:20210101T000000
END:STANDARD
END:VTIMEZONE
BEGIN:VTIMEZONE
TZID:UTC
BEGIN:STANDARD
TZOFFSETFROM:+0000
TZOFFSETTO:+0000
TZNAME:UTC
DTSTART:20210101T000000
END:STANDARD
END:VTIMEZONE
BEGIN:VEVENT
DTSTART;TZID=Europe/London:20250529T100000
DTEND;TZID=Europe/London:20250529T130000
DTSTAMP:20260424T033738
CREATED:20250506T162604Z
LAST-MODIFIED:20250506T162604Z
UID:3848-1748512800-1748523600@drosibikes.org
SUMMARY:Doctor Bike - Corwen
DESCRIPTION:𝗪𝗲’𝗿𝗲 𝗯𝗿𝗶𝗻𝗴𝗶𝗻𝗴 𝗼𝘂𝗿 𝗗𝗼𝗰𝘁𝗼𝗿 𝗕𝗶𝗸𝗲 𝘀𝗲𝗿𝘃𝗶𝗰𝗲 𝘁𝗼 𝗖𝗼𝗿𝘄𝗲𝗻!\n\nJoin us at Canolfan Ni all morning for free bike safety checks and basic repairs – all you have to do is bring your bike!\n\nWhether your bike’s been sat in the shed all winter or you’re a regular rider\, bring it along and let our qualified mechanics give it a check over.\n\nNo need to book – just bring your bike and drop by!\n\nhttps://fb.me/e/3eQCtrMff
URL:https://drosibikes.org/event/doctor-bike-corwen/
LOCATION:canolfan ni\, corwen\, Canolfan Ni\, London Road\, Corwen\, LL21 0DP\, United Kingdom
CATEGORIES:Community
ATTACH;FMTTYPE=image/jpeg:https://drosibikes.org/wp-content/uploads/2025/05/20240726_162955_scaled-scaled-e1746548326209.jpg
END:VEVENT
BEGIN:VEVENT
DTSTART;TZID=Europe/London:20250526T100000
DTEND;TZID=Europe/London:20250526T130000
DTSTAMP:20260424T033738
CREATED:20250506T162135Z
LAST-MODIFIED:20250506T162627Z
UID:3843-1748253600-1748264400@drosibikes.org
SUMMARY:Doctor Bike - Ruabon
DESCRIPTION:𝗪𝗲’𝗿𝗲 𝗯𝗿𝗶𝗻𝗴𝗶𝗻𝗴 𝗼𝘂𝗿 𝗗𝗼𝗰𝘁𝗼𝗿 𝗕𝗶𝗸𝗲 𝘀𝗲𝗿𝘃𝗶𝗰𝗲 𝘁𝗼 𝗥𝘂𝗮𝗯𝗼𝗻!\n\nJoin us at the village hall all morning for free bike safety checks and basic repairs – all you have to do is bring your bike!\n\nWhether your bike’s been sat in the shed all winter or you’re a regular rider\, bring it along and let our qualified mechanics give it a check over.\n\nNo need to book – just bring your bike and drop by!\n\nhttps://fb.me/e/bFG8lQT4t
URL:https://drosibikes.org/event/doctor-bike-ruabon/
LOCATION:Village Hall\, Maes y Llan Lane\, Wrexham\, LL14\, Village Hall\, Maes y Llan Lane\, Ruabon\, LL14 6AD\, United Kingdom
CATEGORIES:Community
ATTACH;FMTTYPE=image/jpeg:https://drosibikes.org/wp-content/uploads/2025/05/20240726_162955_scaled-scaled-e1746548326209.jpg
END:VEVENT
BEGIN:VEVENT
DTSTART;TZID=Europe/London:20250217T190000
DTEND;TZID=Europe/London:20250217T220000
DTSTAMP:20260424T033738
CREATED:20250204T162046Z
LAST-MODIFIED:20250204T162416Z
UID:3370-1739818800-1739829600@drosibikes.org
SUMMARY:An Evening of Adventure Films
DESCRIPTION:**𝗟𝗶𝗺𝗶𝘁𝗲𝗱 𝗽𝗹𝗮𝗰𝗲𝘀 – 𝗯𝗼𝗼𝗸𝗶𝗻𝗴 𝗿𝗲𝗾𝘂𝗶𝗿𝗲𝗱**\n\nThis event will showcase some incredible short adventure films to provide inspiration\, motivation and entertainment in equal measures!\n\nDrosi Bikes teams up with Camp VC to present an evening of epic short films\, getting you psyched for your next adventure. From the comfort of Gales wine bar\, Llangollen\, you can enjoy skateboarding in the highlands of Scotland\, surfing the beaches of Mexico\, mountain biking some of the gnarliest trails out there and MORE!!\n\nDoors open at 7pm\, first film kicks off at 7:30pm. Gales’ bar will be open for food and drinks all evening.
URL:https://drosibikes.org/event/an-evening-of-adventure-films/
LOCATION:Gales Of Llangollen\, 18 Bridge Street\, Llangollen\, LL20 8PF\, Llangollen\, LL20 8PF\, GB
CATEGORIES:Community,Drosi Women
ATTACH;FMTTYPE=image/jpeg:https://drosibikes.org/wp-content/uploads/2025/02/3370_image.jpg
END:VEVENT
BEGIN:VEVENT
DTSTART;TZID=Europe/London:20241116T110000
DTEND;TZID=Europe/London:20241116T140000
DTSTAMP:20260424T033738
CREATED:20241101T152534Z
LAST-MODIFIED:20241101T152534Z
UID:3218-1731754800-1731765600@drosibikes.org
SUMMARY:November Repair Cafe
DESCRIPTION:“A group of volunteers who try to repair broken things\, share\, teach\, learn skills and create community” \nAn ethos we’re 100% behind! Join Robin at St Collen’s Community Hall for FREE bike repairs during the repair café event. Check out their Facebook page for more info or to get involved.
URL:https://drosibikes.org/event/november-repair-cafe/
LOCATION:St Collen’s Community Hall\, St Collen's Community Hall\, Regent Street\, Llangollen\, LL20 8HL\, United Kingdom
CATEGORIES:Community
ATTACH;FMTTYPE=image/jpeg:https://drosibikes.org/wp-content/uploads/2024/08/454745586_122174537546036104_8424543233107310093_n-e1724763325440.jpg
END:VEVENT
BEGIN:VEVENT
DTSTART;TZID=Europe/London:20241019T110000
DTEND;TZID=Europe/London:20241019T140000
DTSTAMP:20260424T033738
CREATED:20240930T145756Z
LAST-MODIFIED:20240930T145756Z
UID:3164-1729335600-1729346400@drosibikes.org
SUMMARY:Llangollen Repair Cafe
DESCRIPTION:“A group of volunteers who try to repair broken things\, share\, teach\, learn skills and create community” \nAn ethos we’re 100% behind! Join Robin at St Collen’s Community Hall for FREE bike repairs during the repair cafe event. Check out their Facebook page for more info or to get involved.
URL:https://drosibikes.org/event/llangollen-repair-cafe-2/
LOCATION:St Collen’s Community Hall\, St Collen's Community Hall\, Regent Street\, Llangollen\, LL20 8HL\, United Kingdom
CATEGORIES:Community
ATTACH;FMTTYPE=image/jpeg:https://drosibikes.org/wp-content/uploads/2024/08/454745586_122174537546036104_8424543233107310093_n-e1724763325440.jpg
END:VEVENT
BEGIN:VEVENT
DTSTART;TZID=Europe/London:20240921T120000
DTEND;TZID=Europe/London:20240921T130000
DTSTAMP:20260424T033738
CREATED:20240827T131345Z
LAST-MODIFIED:20240827T131345Z
UID:3079-1726920000-1726923600@drosibikes.org
SUMMARY:Llangollen Repair Cafe
DESCRIPTION:“A group of volunteers who try to repair broken things\, share\, teach\, learn skills and create community” \nAn ethos we’re 100% behind! Join Robin at St Collen’s Community Hall for FREE bike repairs during the repair cafe event. Check out their Facebook page for more info or to get involved.
URL:https://drosibikes.org/event/llangollen-repair-cafe/
LOCATION:St Collen’s Community Hall\, St Collen's Community Hall\, Regent Street\, Llangollen\, LL20 8HL\, United Kingdom
CATEGORIES:Community
ATTACH;FMTTYPE=image/jpeg:https://drosibikes.org/wp-content/uploads/2024/08/454745586_122174537546036104_8424543233107310093_n-e1724763325440.jpg
END:VEVENT
BEGIN:VEVENT
DTSTART;TZID=UTC:20230802T100000
DTEND;TZID=UTC:20230802T120000
DTSTAMP:20260424T033738
CREATED:20230727T131449Z
LAST-MODIFIED:20230727T131449Z
UID:2144-1690970400-1690977600@drosibikes.org
SUMMARY:Drosi Bikes @ Pengwern 'Wellbeing Wednesday'
DESCRIPTION:Drosi Bikes will be at the Pengwern Hub ‘Wellbeing Wednesday’ session with our Dr Bike pop-up\, offering FREE bike health checks and cycling advice. How it works:\n\n1. Bring your bike to the session;\n2. Leave it with us to look over OR;\n3. Stay and learn bike maintenance skills to health check your own bike.\n\nDon’t have a bike or not confident to ride one? Come and chat with us about what we can do to help. We’d also love to hear your feedback on how we can help improve cycling within Llangollen.
URL:https://drosibikes.org/event/drosi-bikes-pengwern-wellbeing-wednesday/
LOCATION:Pengwern Community Hub\, Llangollen\, LL20 8BL\, United Kingdom
CATEGORIES:Community
ATTACH;FMTTYPE=image/jpeg:https://drosibikes.org/wp-content/uploads/2023/07/Instagram-posts-12.jpg
END:VEVENT
BEGIN:VEVENT
DTSTART;TZID=UTC:20230419T153000
DTEND;TZID=UTC:20230419T163000
DTSTAMP:20260424T033738
CREATED:20230406T123026Z
LAST-MODIFIED:20230406T123145Z
UID:1833-1681918200-1681921800@drosibikes.org
SUMMARY:Denbighshire Youth Consultation
DESCRIPTION:Under 18 and living in or around Llangollen? We want to hear from you! \nWe want to hear your thoughts on what we can do\, collectively\, to help improve cycling within the town. We’ll be popping along to the youth group session and would love the opportunity to chat to anyone with an opinion on cycling (good or bad!). We’ll be bringing our Dr Bike workstation so will also be offering free\, interactive bike health checks.
URL:https://drosibikes.org/event/denbighshire-youth-consultation/
LOCATION:Llangollen Youth Centre\, Willow St\, Llangollen\, LL20 8HH\, United Kingdom
CATEGORIES:Community
ATTACH;FMTTYPE=image/jpeg:https://drosibikes.org/wp-content/uploads/2023/04/bike-sign-2-scaled.jpg
END:VEVENT
BEGIN:VEVENT
DTSTART;TZID=UTC:20230419T100000
DTEND;TZID=UTC:20230419T120000
DTSTAMP:20260424T033738
CREATED:20230406T103150Z
LAST-MODIFIED:20230413T083029Z
UID:1831-1681898400-1681905600@drosibikes.org
SUMMARY:RESCHEDULED / Dr Bike @ Pengwern 'Wellbeing Wednesday'
DESCRIPTION:Drosi Bikes will be at the Pengwern ‘Wellbeing Wednesday’ session with our Dr Bike pop-up\, offering FREE interactive bike health checks and cycling advice.\n\n1. Bring your bike to the session;\n2. Leave it with us to look over OR;\n3. Stay and learn bike maintenance skills to health check your own bike.\n\nDon’t have a bike or not confident to ride one? Come and chat with us about what we can do to help. We’d also love to hear your feedback on how we can help improve cycling within Llangollen.
URL:https://drosibikes.org/event/dr-bike-pengwern-wellbeing-wednesday/
LOCATION:Pengwern Community Hub\, Llangollen\, LL20 8BL\, United Kingdom
CATEGORIES:Community
ATTACH;FMTTYPE=image/jpeg:https://drosibikes.org/wp-content/uploads/2023/02/301063467_5790278270983647_1297374917939318427_n-1.jpg
END:VEVENT
BEGIN:VEVENT
DTSTART;TZID=UTC:20230213T140000
DTEND;TZID=UTC:20230213T160000
DTSTAMP:20260424T033738
CREATED:20230203T123321Z
LAST-MODIFIED:20230208T130933Z
UID:1753-1676296800-1676304000@drosibikes.org
SUMMARY:Dr Bike @ Bws Benthyg\, Ruthin
DESCRIPTION:We’ll be at the Bws Benthyg event in Ruthin offering FREE bike health checks and basic repairs. It’s promising to be a great event so why not leave the car at home and cycle on over to check it out. Leave your bike with us and then ride home knowing it’s in top condition!
URL:https://drosibikes.org/event/dr-bike-bws-benthyg-ruthin/
LOCATION:The Old Court House\, 4 Well St\, Ruthin\, LL15 1AE\, United Kingdom
CATEGORIES:Community
ATTACH;FMTTYPE=image/png:https://drosibikes.org/wp-content/uploads/2023/02/Reuse-Roadshow.png
END:VEVENT
BEGIN:VEVENT
DTSTART;TZID=UTC:20221203T104500
DTEND;TZID=UTC:20221203T133000
DTSTAMP:20260424T033738
CREATED:20221116T123149Z
LAST-MODIFIED:20221117T103252Z
UID:1668-1670064300-1670074200@drosibikes.org
SUMMARY:Dr Bike @ Ruthin Repair Cafe
DESCRIPTION:Having problems with your bike? Got a flat tyre that you haven’t got round to fixing? Your problem is solved – our mobile mechanic is coming to you! We’re at the Repair Cafe in Ruthin offering FREE bike health checks and basic repairs. Bring your bike along and let’s get pedalling!
URL:https://drosibikes.org/event/dr-bike-ruthin-repair-cafe/
LOCATION:Drosi Bikes\, Parade Street\, Llangollen\, LL20 8PW\, Llangollen\, LL20 8PW\, GB
CATEGORIES:Community
ATTACH;FMTTYPE=image/jpeg:https://drosibikes.org/wp-content/uploads/2022/08/dr-bikes_square-cropped.jpg
END:VEVENT
BEGIN:VEVENT
DTSTART;TZID=UTC:20221103T103000
DTEND;TZID=UTC:20221103T150000
DTSTAMP:20260424T033738
CREATED:20220920T093225Z
LAST-MODIFIED:20220920T130215Z
UID:1579-1667471400-1667487600@drosibikes.org
SUMMARY:Dr Bike @ Pengwern Community Hub
DESCRIPTION:Having problems with your bike? Got a flat tyre that you haven’t got round to fixing? Your problem is solved – our mobile mechanic is coming to you! We’re at the Pengwern Community Hub this half term\, offering FREE bike health checks and basic repairs. Bring your bike along and let’s get pedalling!
URL:https://drosibikes.org/event/dr-bike-pengwern-community-hub/
LOCATION:Pengwern Community Hub\, Llangollen\, LL20 8BL\, United Kingdom
CATEGORIES:Community
ATTACH;FMTTYPE=image/jpeg:https://drosibikes.org/wp-content/uploads/2022/08/dr-bikes_square-cropped.jpg
END:VEVENT
BEGIN:VEVENT
DTSTART;TZID=UTC:20221004T100000
DTEND;TZID=UTC:20221004T153000
DTSTAMP:20260424T033738
CREATED:20220928T091000Z
LAST-MODIFIED:20220928T092503Z
UID:1610-1664877600-1664897400@drosibikes.org
SUMMARY:Fossil Fuel Free tools and travel options for countryside professionals
DESCRIPTION:Explore electric vehicle and tools options for fulfilling your countryside services roles\n\n\nThe Clwydian Range and Dee Valley AONB team are excited to announce the Fossil Fuel Free tools and travel CPD and demo day to be held in conjunction with National Trust Chirk\, Clwyd Agri and Drosi Bikes this autumn. The day will provide attendees an opportunity to explore fossil fuel free options for conducting their day to day tasks and travel in their countryside roles. \nThe day will start with a welcome brief at 10am sharp in the Chirk Castle countryside team workshop (see map below) from which attendees will spend the morning attending two of the following workshops. After the second workshop we will break for lunch and networking (please bring your own packed lunch\, tea / coffee making facilities will be available). In the afternoon attendees will have the option to join one of three longer sessions with the day wrapping up around 3pm. \nPlease email tom.johnstone@denbighshire.gov.uk once you’ve booked your place on Eventbrite to indicate your preferred workshops for the morning and afternoon sessions. Spaces on workshops will be allocated on a first come first serve basis. \nMorning workshops: \nGrass and scrub management – an opportunity to explore\, demo and ask questions about a range of battery powered grass and scrub management tools from Stihl. Participants may use equipment in this session if they are suitably experienced in using petrol equivalents and attend with suitable safety clothing / equipment. \nTree and timber management – a workshop looking at the fossil fuel free tools available for managing trees and timber with various battery powered power tools provided by Stihl. Participants may use equipment in this session if they are suitably experienced in using petrol equivalents and attend with suitable safety clothing / equipment. \nTravel and transport duties– Clwyd Agri\, Drosi Bikes and staff from CRDV AONB team share their experiences of using electric vehicles and bicycles for a variety of countryside tasks and roles. This workshop includes some vehicles that can be demo’d on site and some that can be viewed but a private demo will need to be arranged for a later date. Please attend wearing closed toe footwear\, helmets will be provided. \nAfternoon workshops: \nChirk Castle tour – see some of what Chirk Castle and the grounds have to offer and hear from the staff who maintain the grounds there. \nReturn to a workshop from the morning for more in depth Q&A / demo opportunity – take the time to go back to any one of the mornings workshops and ask more in depth questions\, demo the equipment and explore its application in your setting. \nTimetable \n1000 – Welcome in the Chirk Castle workshop \n1030 – Workshop #1 \n1130 – Workshop #2 \n1230 – Lunch & networking \n1330 – Afternoon workshops \n1530 – Close of day \nDirections \nChirk Castle can be found by following brown signs on all the main routes into Chirk\, or can be found on your preferred map platform on mobile devices. \nEntering and parking – from the B5070 main road through Chirk attendees should follow signs for Chirk Castle\, enter via the main entrance and follow the drive to the main carpark. Please remember the Castle is open to the public and park considerately. \nFinding the Chirk Castle workshop – on foot from the carpark please follow the signs to the right of the visitor centre\, past Home Farm to the workshop. It is a very short walk but please arrive at the workshop for 10am prompt. \nWhat to bring? \nClothing and footwear suitable for being outdoors all day regardless of the weather forecast \nPacked lunch \nYour tea / coffee cup \nYour safety clothing and equipment if you’d like to demo the grass\, scrub or timber management tools (strimmer’s\, brush cutters\, chainsaws etc) \nLearning points: \nFrom this day you can expect to gain a better understanding of the capabilities of a range of fossil fuel free tools and travel options. You may get hands on with the equipment or see it in use and understand what the current technology is capable of. \nYou will network with other professionals and students in countryside roles across NE Wales. \nThere will be the opportunity to talk to suppliers to arrange demos of equipment on your own site to enable your teams to work toward a low carbon tool and travel future.
URL:https://drosibikes.org/event/fossil-fuel-free-tools-and-travel-options-for-countryside-professionals/
LOCATION:National Trust – Chirk Castle\, The workshop Chirk Castle\, Wrexham\, LL14 5AF\, Wrexham\, LL14 5AF\, GB
CATEGORIES:Community
ATTACH;FMTTYPE=image/jpeg:https://drosibikes.org/wp-content/uploads/2022/09/1610_image-scaled.jpg
END:VEVENT
BEGIN:VEVENT
DTSTART;TZID=UTC:20220921T100000
DTEND;TZID=UTC:20220921T170000
DTSTAMP:20260424T033738
CREATED:20220920T091457Z
LAST-MODIFIED:20220920T091457Z
UID:1574-1663754400-1663779600@drosibikes.org
SUMMARY:Dr Bike @ Bangor University
DESCRIPTION:We’re heading over to the Bangor Uni campus for a one day Dr Bike pop up\, providing FREE bike health checks and basic repairs. If you’re a student\, faculty\, staff or involved with the university in any way\, bring your bike along and let us get it ready for the new academic year!
URL:https://drosibikes.org/event/dr-bike-bangor-university/
LOCATION:Bangor Univesity\, Ffriddoedd Road\, Bangor\, LL57 2GP\, United Kingdom
CATEGORIES:Community
ATTACH;FMTTYPE=image/jpeg:https://drosibikes.org/wp-content/uploads/2022/08/dr-bikes_square-cropped.jpg
END:VEVENT
BEGIN:VEVENT
DTSTART;TZID=UTC:20220823T130000
DTEND;TZID=UTC:20220823T163000
DTSTAMP:20260424T033738
CREATED:20220818T150424Z
LAST-MODIFIED:20220818T150815Z
UID:1458-1661259600-1661272200@drosibikes.org
SUMMARY:Dr Bike @ The Venture Wrexham
DESCRIPTION:Having problems with your bike? Got a flat tyre that you haven’t got round to fixing? Your problem is solved – our mobile mechanic is coming to you! We’re at the Venture in Wrexham offering FREE bike health checks and basic repairs. Bring your bike along and let’s get pedalling!
URL:https://drosibikes.org/event/dr-bike-the-venture-wrexham/
LOCATION:The Venture\, Garner Road\, Wrexham\, LL13 8SF\, United Kingdom
CATEGORIES:Community
ATTACH;FMTTYPE=image/jpeg:https://drosibikes.org/wp-content/uploads/2022/08/dr-bikes_square-cropped.jpg
END:VEVENT
BEGIN:VEVENT
DTSTART;TZID=UTC:20220714T190000
DTEND;TZID=UTC:20220714T210000
DTSTAMP:20260424T033738
CREATED:20220628T140443Z
LAST-MODIFIED:20220628T140443Z
UID:1247-1657825200-1657832400@drosibikes.org
SUMMARY:Bike Maintenance Demonstration
DESCRIPTION:This Thursday we’re out in the community at a local Scout group; teaching bike maintenance skills to boys and girls aged 10 1/2 – 16!
URL:https://drosibikes.org/event/bike-maintenance-demonstration/
CATEGORIES:Community
ATTACH;FMTTYPE=image/jpeg:https://drosibikes.org/wp-content/uploads/2022/06/scouts_cropped-1.jpg
END:VEVENT
END:VCALENDAR