BEGIN:VCALENDAR
VERSION:2.0
PRODID:-//Drosi Bikes - ECPv6.15.20//NONSGML v1.0//EN
CALSCALE:GREGORIAN
METHOD:PUBLISH
X-ORIGINAL-URL:https://drosibikes.org
X-WR-CALDESC:Events for Drosi Bikes
REFRESH-INTERVAL;VALUE=DURATION:PT1H
X-Robots-Tag:noindex
X-PUBLISHED-TTL:PT1H
BEGIN:VTIMEZONE
TZID:UTC
BEGIN:STANDARD
TZOFFSETFROM:+0000
TZOFFSETTO:+0000
TZNAME:UTC
DTSTART:20210101T000000
END:STANDARD
END:VTIMEZONE
BEGIN:VEVENT
DTSTART;TZID=UTC:20221119T100000
DTEND;TZID=UTC:20221119T170000
DTSTAMP:20260424T080057
CREATED:20221116T124735Z
LAST-MODIFIED:20221116T124735Z
UID:1674-1668852000-1668877200@drosibikes.org
SUMMARY:Bikes for Refugees
DESCRIPTION:With the world facing a refugee crisis\, many displaced families are now calling Denbighshire home. We’d like to help them out in the small way that we can\, by donating some of the many bikes we have in the workshop\, but we need your help…\n\nJoin us on this dedicated refugee day to sort\, repair\, refurb and rehome as many bikes as we can. All bikes refurbished during this workshop will go to local refugee families.\n\nSpace in the workshop is limited\, so please get in touch with us beforehand to confirm your place.
URL:https://drosibikes.org/event/bikes-for-refugees/
LOCATION:Drosi Bikes\, Parade Street\, Llangollen\, LL20 8PW\, Llangollen\, LL20 8PW\, GB
CATEGORIES:Volunteer
ATTACH;FMTTYPE=image/jpeg:https://drosibikes.org/wp-content/uploads/2022/08/DSC_1850_cropped.jpg
END:VEVENT
BEGIN:VEVENT
DTSTART;TZID=UTC:20221011T180000
DTEND;TZID=UTC:20221011T200000
DTSTAMP:20260424T080057
CREATED:20220922T105134Z
LAST-MODIFIED:20220928T080223Z
UID:1599-1665511200-1665518400@drosibikes.org
SUMMARY:Volunteer Induction Evening - Part 2
DESCRIPTION:Interested in becoming a Drosi Volunteer? Join us for a 2-part induction session aimed at bringing new volunteers up to speed with basic bike maintenance (M-checks\, brakes and gears) and how we operate here at Drosi Bikes. \n  \nBooking is essential – contact the workshop to reserve your spot – hello@drosibikes.org
URL:https://drosibikes.org/event/volunteer-induction-evening-part-2/
LOCATION:Drosi Bikes\, Parade Street\, Llangollen\, LL20 8PW\, Llangollen\, LL20 8PW\, GB
CATEGORIES:Volunteer
ATTACH;FMTTYPE=image/jpeg:https://drosibikes.org/wp-content/uploads/2022/09/workshop-image_cropped.jpg
END:VEVENT
BEGIN:VEVENT
DTSTART;TZID=UTC:20221010T180000
DTEND;TZID=UTC:20221010T200000
DTSTAMP:20260424T080057
CREATED:20220922T104926Z
LAST-MODIFIED:20220928T080135Z
UID:1595-1665424800-1665432000@drosibikes.org
SUMMARY:Volunteer Induction Evening - Part 1
DESCRIPTION:Interested in becoming a Drosi Volunteer? Join us for a 2-part induction session aimed at bringing new volunteers up to speed with basic bike maintenance (M-checks\, brakes and gears) and how we operate here at Drosi Bikes. \n  \nBooking is essential – contact the workshop to reserve your spot – hello@drosibikes.org
URL:https://drosibikes.org/event/volunteer-induction-evening-part-1/
LOCATION:Drosi Bikes\, Parade Street\, Llangollen\, LL20 8PW\, Llangollen\, LL20 8PW\, GB
CATEGORIES:Volunteer
ATTACH;FMTTYPE=image/jpeg:https://drosibikes.org/wp-content/uploads/2022/09/workshop-image_cropped.jpg
END:VEVENT
BEGIN:VEVENT
DTSTART;TZID=UTC:20220917T100000
DTEND;TZID=UTC:20220917T170000
DTSTAMP:20260424T080057
CREATED:20220823T101330Z
LAST-MODIFIED:20220823T101330Z
UID:1514-1663408800-1663434000@drosibikes.org
SUMMARY:Refugee Bike Day
DESCRIPTION:With the world facing a refugee crisis\, many displaced families are now calling Denbighshire home. We’d like to help them out in the small way that we can\, by donating some of the many bikes we have in the workshop\, but we need your help…\n\nJoin us on this dedicated refugee day to sort\, repair\, refurb and rehome as many bikes as we can. All bikes refurbished during this workshop will go to local refugee families.\n\nSpace in the workshop is limited\, so please get in touch with us beforehand to confirm your place.
URL:https://drosibikes.org/event/refugee-bike-day-2/
LOCATION:Drosi Bikes\, Parade Street\, Llangollen\, LL20 8PW\, Llangollen\, LL20 8PW\, GB
CATEGORIES:Volunteer
ATTACH;FMTTYPE=image/jpeg:https://drosibikes.org/wp-content/uploads/2022/08/DSC_1850_cropped.jpg
END:VEVENT
BEGIN:VEVENT
DTSTART;TZID=UTC:20220903T100000
DTEND;TZID=UTC:20220903T170000
DTSTAMP:20260424T080057
CREATED:20220823T101227Z
LAST-MODIFIED:20220823T101227Z
UID:1512-1662199200-1662224400@drosibikes.org
SUMMARY:Refugee Bike Day
DESCRIPTION:With the world facing a refugee crisis\, many displaced families are now calling Denbighshire home. We’d like to help them out in the small way that we can\, by donating some of the many bikes we have in the workshop\, but we need your help…\n\nJoin us on this dedicated refugee day to sort\, repair\, refurb and rehome as many bikes as we can. All bikes refurbished during this workshop will go to local refugee families.\n\nSpace in the workshop is limited\, so please get in touch with us beforehand to confirm your place.
URL:https://drosibikes.org/event/refugee-bike-day/
LOCATION:Drosi Bikes\, Parade Street\, Llangollen\, LL20 8PW\, Llangollen\, LL20 8PW\, GB
CATEGORIES:Volunteer
ATTACH;FMTTYPE=image/jpeg:https://drosibikes.org/wp-content/uploads/2022/08/DSC_1850_cropped.jpg
END:VEVENT
END:VCALENDAR