BEGIN:VCALENDAR
VERSION:2.0
PRODID:-//Drosi Bikes - ECPv6.15.20//NONSGML v1.0//EN
CALSCALE:GREGORIAN
METHOD:PUBLISH
X-WR-CALNAME:Drosi Bikes
X-ORIGINAL-URL:https://drosibikes.org
X-WR-CALDESC:Events for Drosi Bikes
REFRESH-INTERVAL;VALUE=DURATION:PT1H
X-Robots-Tag:noindex
X-PUBLISHED-TTL:PT1H
BEGIN:VTIMEZONE
TZID:Africa/Abidjan
BEGIN:STANDARD
TZOFFSETFROM:+0000
TZOFFSETTO:+0000
TZNAME:GMT
DTSTART:20240101T000000
END:STANDARD
END:VTIMEZONE
BEGIN:VTIMEZONE
TZID:Europe/London
BEGIN:DAYLIGHT
TZOFFSETFROM:+0000
TZOFFSETTO:+0100
TZNAME:BST
DTSTART:20240331T010000
END:DAYLIGHT
BEGIN:STANDARD
TZOFFSETFROM:+0100
TZOFFSETTO:+0000
TZNAME:GMT
DTSTART:20241027T010000
END:STANDARD
BEGIN:DAYLIGHT
TZOFFSETFROM:+0000
TZOFFSETTO:+0100
TZNAME:BST
DTSTART:20250330T010000
END:DAYLIGHT
BEGIN:STANDARD
TZOFFSETFROM:+0100
TZOFFSETTO:+0000
TZNAME:GMT
DTSTART:20251026T010000
END:STANDARD
BEGIN:DAYLIGHT
TZOFFSETFROM:+0000
TZOFFSETTO:+0100
TZNAME:BST
DTSTART:20260329T010000
END:DAYLIGHT
BEGIN:STANDARD
TZOFFSETFROM:+0100
TZOFFSETTO:+0000
TZNAME:GMT
DTSTART:20261025T010000
END:STANDARD
END:VTIMEZONE
BEGIN:VEVENT
DTSTART;TZID=Africa/Abidjan:20250903T170000
DTEND;TZID=Africa/Abidjan:20250903T183000
DTSTAMP:20260424T055911
CREATED:20250704T104157Z
LAST-MODIFIED:20250704T104157Z
UID:4358-1756918800-1756924200@drosibikes.org
SUMMARY:Women Led OPEN DIY Workshop
DESCRIPTION:Stuck mid-ride? Learn to fix it yourself! A friendly\, hands-on workshop for women+ covering key road/trail-side bike repairs.\n\n\nAs part of our DIY series\, this workshop is a women-led DIY session. It’s still very much a women+ friendly environment but everyone is welcome.  \nThe DIY workshop provides access to cycling equipment\, tools and non-judgemental advice to all. \nHeld at Drosi’s workshop\, you will learn how to keep your adventure on track by checking & fixing your own bike. We will support you to take control of all those little fixes you wanted to know about\, so that you can be confident when out on the road or trail. \nWhether you are a beginner cyclist\, or have been cycling for years\, join us to chat all things bike\, use our tools and meet new people. \nTea/Coffee and biscuits provided (Please let us know in advance if you have a specific dietry requirement and we will do our best to provide some yummy biscuits!!!) \n\n\nWomen+ includes anyone identifying as female\, trans or non-binary \nUnder 18’s to be accompanied by parent/guardian please.
URL:https://drosibikes.org/event/women-led-open-diy-workshop/
LOCATION:Drosi Bikes\, Parade Street\, Llangollen\, LL20 8PW\, Llangollen\, LL20 8PW\, GB
ATTACH;FMTTYPE=image/jpeg:https://drosibikes.org/wp-content/uploads/2025/03/3536_image-scaled-e1741781222434.jpg
END:VEVENT
BEGIN:VEVENT
DTSTART;TZID=Africa/Abidjan:20250913T093000
DTEND;TZID=Africa/Abidjan:20250913T113000
DTSTAMP:20260424T055911
CREATED:20250801T210730Z
LAST-MODIFIED:20250806T161742Z
UID:4628-1757755800-1757763000@drosibikes.org
SUMMARY:Cycle Confidence Coaching Beginner Session - Women+ Only
DESCRIPTION:Build bike control & confidence in a traffic free environment with a female coach. Perfect if you’re new or nervous riding near traffic.\n\n\nThis session is perfect if you’re comfortable riding a bike but feel wobbly when it comes to road skills or urban cycling. Maybe you avoid traffic altogether\, or you’re looking to take the first step towards using your bike for everyday trips. We’ll focus on developing practical bike handling and awareness skills in a safe\, supportive\, traffic-free environment. \nLed by Alex Aiken\, a qualified female cycle coach\, this session will help you: \n \n\nBuild balance\, control & braking confidence\nImprove signalling and bike handling skills\nLearn how to ride more confidently around others\nUnderstand what makes you visible and predictable to traffic\n\nThis relaxed and supportive women+ coaching group is all about building skills at your own pace\, with plenty of encouragement and a few laughs along the way. You’ll come away feeling more confident with your bike handling skills\, lots of tips and plenty to practice. \n \nWho is Alex Aiken? \nAlex is a passionate and experienced cycling coach who loves helping women build confidence on two wheels. She’s a Level 2 British Cycling Coach\, Level 2 Road Leader\, and a Fundamentals of Mountain Bike Leader – so you’re in safe\, knowledgeable hands. \nAs a long-time volunteer with Breeze\, British Cycling’s initiative to get more women riding for fun\, Alex has supported and coached hundreds of women across North Wales. She went on to become the Area Coordinator for North and Mid Wales\, and is also the founder of the women’s cycling club Women Cycling Together / Beicio Gyda Merched. \nAlex especially enjoys working with beginners and returners to cycling\, and seeing just how quickly confidence and skills can grow. For her\, there’s nothing better than cycling through the beautiful landscapes of North Wales with friends\, chatting and stopping for a well-earned coffee at one of her favourite spots. \nHer sessions are friendly\, relaxed and supportive – whether you’re dreaming of cycling the kids to school or taking on your first long-distance ride\, Alex is here to help you believe you can. And who knows? You might just catch the cycling bug! \n \nImportant Info \n\nPlease arrive and be ready to ride at least10 minutes before your session starts.\nPlease bring your own bike and helmet\, if you do not have your own please contact us.\nYour bike must be in good working order – get in touch with Drosi Bikes if you need us to check it out before the sessions ( a small cost may apply).\nYou must wear a helmet at all times during the coaching session (If you don’t have one\, get in touch).\nBring snacks and drink\, dress for the weather and as always – a waterproof coat! (there will be a break during the session).\n\nCost shouldn’t be a barrier. \nWe’re asking just £5 for this heavily funded\, 2-hour coaching session – an incredible value – but we understand that even this can be a stretch sometimes. If money’s a barrier\, please don’t hesitate to get in touch – we’re here to help\, no questions asked. \nIf you can afford the £5\, know that your contribution goes right back into our community – supporting future events\, courses for young and old\, and helping others who might be struggling to access opportunities like this one. \nWomen+ only\, friendly\, and no pressure just pedal-powered progress! \n \nGirls under 18 must be accompanied by an adult\, either also in the session or as an observer
URL:https://drosibikes.org/event/cycle-confidence-coaching-beginner-session/
LOCATION:Llangollen Leisure Centre\, Dinbren Road\, Llangollen\, LL20 8TG\, Llangollen\, LL20 8TG\, GB
ATTACH;FMTTYPE=image/jpeg:https://drosibikes.org/wp-content/uploads/2025/08/4628_image.jpg
END:VEVENT
BEGIN:VEVENT
DTSTART;TZID=Africa/Abidjan:20250913T120000
DTEND;TZID=Africa/Abidjan:20250913T140000
DTSTAMP:20260424T055911
CREATED:20250801T210904Z
LAST-MODIFIED:20250806T162457Z
UID:4632-1757764800-1757772000@drosibikes.org
SUMMARY:Cycle Confidence Coaching Beginner/Returner Session Women+ Only
DESCRIPTION:Just starting out or coming back to cycling? Build skills & confidence in this friendly\, traffic-free session for women+.\n\n\nHaven’t ridden in a while? This session is designed for women who used to ride and want to get back in the saddle or for those who cycle now and then\, but want more confidence before tackling roads. \nLed by Alex Aiken\, experienced and qualified female cycle coach\, this traffic free session will help you: \n \n\nRebuild key cycling skills like signalling\, braking\, and balance\nPractice bike control in a relaxed\, car-free space\nBoost your confidence in preparation for everyday cycling\nAsk questions and gain practical tips in a supportive women+ only setting\n\nCome as you are\, and lets ride at your pace! \nThis relaxed and supportive women+ coaching group is all about building skills at your own pace\, with plenty of encouragement and a few laughs along the way. You’ll come away feeling more confident with your bike handling skills\, lots of tips and plenty to practice. \n \nWho is Alex Aiken? \nAlex is a passionate and experienced cycling coach who loves helping women build confidence on two wheels. She’s a Level 2 British Cycling Coach\, Level 2 Road Leader\, and a Fundamentals of Mountain Bike Leader – so you’re in safe\, knowledgeable hands. \nAs a long-time volunteer with Breeze\, British Cycling’s initiative to get more women riding for fun\, Alex has supported and coached hundreds of women across North Wales. She went on to become the Area Coordinator for North and Mid Wales\, and is also the founder of the women’s cycling club Women Cycling Together / Beicio Gyda Merched. \nAlex especially enjoys working with beginners and returners to cycling\, and seeing just how quickly confidence and skills can grow. For her\, there’s nothing better than cycling through the beautiful landscapes of North Wales with friends\, chatting and stopping for a well-earned coffee at one of her favourite spots. \nHer sessions are friendly\, relaxed and supportive – whether you’re dreaming of cycling the kids to school or taking on your first long-distance ride\, Alex is here to help you believe you can. And who knows? You might just catch the cycling bug! \n \nImportant Info \n\nPlease arrive and be ready to ride at least10 minutes before your session starts.\nPlease bring your own bike and helmet\, if you do not have your own please contact us.\nYour bike must be in good working order – get in touch with Drosi Bikes if you need us to check it out before the sessions ( a small cost may apply).\nYou must wear a helmet at all times during the coaching session (If you don’t have one\, get in touch).\nBring snacks and drink\, dress for the weather and as always – a waterproof coat! (there will be a break during the session).\n\nCost shouldn’t be a barrier. \nWe’re asking just £5 for this heavily funded\, 2-hour coaching session – an incredible value – but we understand that even this can be a stretch sometimes. If money’s a barrier\, please don’t hesitate to get in touch – we’re here to help\, no questions asked. \nIf you can afford the £5\, know that your contribution goes right back into our community – supporting future events\, courses for young and old\, and helping others who might be struggling to access opportunities like this one. \nWomen+ only\, friendly\, and no pressure just pedal-powered progress! \n \nGirls under 18 must be accompanied by an adult\, either also in the session or as an observer
URL:https://drosibikes.org/event/cycle-confidence-coaching-beginner-returner-session/
LOCATION:Llangollen Leisure Centre\, Dinbren Road\, Llangollen\, LL20 8TG\, Llangollen\, LL20 8TG\, GB
ATTACH;FMTTYPE=image/jpeg:https://drosibikes.org/wp-content/uploads/2025/08/4628_image.jpg
END:VEVENT
BEGIN:VEVENT
DTSTART;TZID=Africa/Abidjan:20250913T143000
DTEND;TZID=Africa/Abidjan:20250913T163000
DTSTAMP:20260424T055911
CREATED:20250801T211013Z
LAST-MODIFIED:20250806T161852Z
UID:4635-1757773800-1757781000@drosibikes.org
SUMMARY:Cycle Confidence Coaching Intermediate Session - Women+ Only
DESCRIPTION:Ride regularly? Build road confidence\, control & communication skills in a supportive\, traffic-free coaching session.\n\n\nAlready a semi regular/regular rider but keen to feel more confident on roads? This session is for women who cycle often but want to improve their road positioning\, communication\, and control essential for commuting\, school runs\, or errands around town. \nIn this traffic free skills session\, Alex Aiken\, qualified female cycle coach\, will guide you through: \n \n\nHow to ride more assertively and predictably\nPracticing safe manoeuvres and signalling techniques\nBuilding confidence for junctions and urban cycling\nPlanning your routes and preparing for solo or group rides\n\nThe goal: Feel strong\, confident and ready for the road even if you’re still in the car park (for now)! \n \nWho is Alex Aiken? \nAlex is a passionate and experienced cycling coach who loves helping women build confidence on two wheels. She’s a Level 2 British Cycling Coach\, Level 2 Road Leader\, and a Fundamentals of Mountain Bike Leader – so you’re in safe\, knowledgeable hands. \nAs a long-time volunteer with Breeze\, British Cycling’s initiative to get more women riding for fun\, Alex has supported and coached hundreds of women across North Wales. She went on to become the Area Coordinator for North and Mid Wales\, and is also the founder of the women’s cycling club Women Cycling Together / Beicio Gyda Merched. \nAlex especially enjoys working with beginners and returners to cycling\, and seeing just how quickly confidence and skills can grow. For her\, there’s nothing better than cycling through the beautiful landscapes of North Wales with friends\, chatting and stopping for a well-earned coffee at one of her favourite spots. \nHer sessions are friendly\, relaxed and supportive – whether you’re dreaming of cycling the kids to school or taking on your first long-distance ride\, Alex is here to help you believe you can. And who knows? You might just catch the cycling bug! \n \nImportant Info \n\nPlease arrive and be ready to ride at least10 minutes before your session starts.\nPlease bring your own bike and helmet\, if you do not have your own please contact us.\nYour bike must be in good working order – get in touch with Drosi Bikes if you need us to check it out before the sessions ( a small cost may apply).\nYou must wear a helmet at all times during the coaching session (If you don’t have one\, get in touch).\nBring snacks and drink\, dress for the weather and as always – a waterproof coat! (there will be a break during the session).\n\nCost shouldn’t be a barrier. \nWe’re asking just £5 for this heavily funded\, 2-hour coaching session – an incredible value – but we understand that even this can be a stretch sometimes. If money’s a barrier\, please don’t hesitate to get in touch – we’re here to help\, no questions asked. \nIf you can afford the £5\, know that your contribution goes right back into our community – supporting future events\, courses for young and old\, and helping others who might be struggling to access opportunities like this one. \nWomen+ only\, friendly\, and no pressure just pedal-powered progress! \nGirls under 18 must be accompanied by an adult\, either also in the session or as an observer
URL:https://drosibikes.org/event/cycle-confidence-coaching-intermediate-session/
LOCATION:Llangollen Leisure Centre\, Dinbren Road\, Llangollen\, LL20 8TG\, Llangollen\, LL20 8TG\, GB
ATTACH;FMTTYPE=image/jpeg:https://drosibikes.org/wp-content/uploads/2025/08/4628_image.jpg
END:VEVENT
BEGIN:VEVENT
DTSTART;TZID=Europe/London:20250920T090000
DTEND;TZID=Europe/London:20250920T120000
DTSTAMP:20260424T055911
CREATED:20250110T142357Z
LAST-MODIFIED:20250110T144019Z
UID:3278-1758358800-1758369600@drosibikes.org
SUMMARY:Introduction to Bike Maintenance - Level 1
DESCRIPTION:Designed for complete beginners and those with rusty knowledge.\n\n\nDesigned for complete beginners and those with rusty knowledge. \nCourse Content \n\nSafety checking\nRemoving wheels and fixing punctures\nErgonomics (setting up your bike to fit you)\nBike repair tools and lubricants (what you need to keep your bike in top condition)\nCleaning and lubricating\n\n+ \n\nFree tea\, coffee and biscuits!\n\nAll tools are provided but trainees are encouraged to bring their own bikes to work on. \nPLEASE NOTE: We require a minimum of 2 people to run these workshops. If we are unable to reach our minimum number we will sadly have to cancel. In which case you will be fully refunded and we will do our best to reschedule and get you booked on to any future workshops. \nTHE DROSI WAY \nDrosi Bikes’ sole purpose is to address the lack of diversity in the cycling community and to offer accessible solutions to climate change\, reducing the overall number of car journeys made and creating communities that are safer\, more cohesive and full of healthy\, happy individuals. \nOh! Did we mention that we’re also a Social Enterprise? This means that any profit we make Does not come at the expense of others or at the expense of the wild places we love. \nDrosi Bikes puts people and the planet first.
URL:https://drosibikes.org/event/introduction-to-bike-maintenance-level-1-sept-25/
LOCATION:Drosi Bikes\, Parade Street\, Llangollen\, LL20 8PW\, Llangollen\, LL20 8PW\, GB
CATEGORIES:Workshops & Training
ATTACH;FMTTYPE=image/jpeg:https://drosibikes.org/wp-content/uploads/2024/03/PXL_20230922_132234346.PORTRAIT-scaled-e1710868944393.jpg
END:VEVENT
BEGIN:VEVENT
DTSTART;TZID=Europe/London:20250920T133000
DTEND;TZID=Europe/London:20250920T163000
DTSTAMP:20260424T055911
CREATED:20250110T142637Z
LAST-MODIFIED:20250110T143732Z
UID:3283-1758375000-1758385800@drosibikes.org
SUMMARY:Introduction to Bike Maintenance - Level 2
DESCRIPTION:Designed for people with basic bike maintenance experience and those with rusty knowledge.\n\n\nCourse Content \n\nChanging brake pads\nAdjusting cable brake systems (this does not include hydraulic brakes)\nAdjusting gears\nReplacing brake and gear cables\n\n+ \n\nFree tea and coffee!\n\nAll tools are provided but trainees are encouraged to bring their own bikes to work on. \nPLEASE NOTE: We require a minimum of 2 people to run these workshops. If we are unable to reach our minimum number we will sadly have to cancel. In which case you will be fully refunded and we will do our best to reschedule and get you booked on to any future workshops. \nTHE DROSI WAY \nDrosi Bikes’ sole purpose is to address the lack of diversity in the cycling community and to offer accessible solutions to climate change\, reducing the overall number of car journeys made and creating communities that are safer\, more cohesive and full of healthy\, happy individuals. \nOh! Did we mention that we’re also a Social Enterprise? This means that any profit we make Does not come at the expense of others or at the expense of the wild places we love. \nDrosi Bikes puts people and the planet first.
URL:https://drosibikes.org/event/introduction-to-bike-maintenance-level-2-sept-25/
LOCATION:Drosi Bikes\, Parade Street\, Llangollen\, LL20 8PW\, Llangollen\, LL20 8PW\, GB
CATEGORIES:Workshops & Training
ATTACH;FMTTYPE=image/jpeg:https://drosibikes.org/wp-content/uploads/2024/03/PXL_20230922_132234346.PORTRAIT-scaled-e1710868944393.jpg
END:VEVENT
BEGIN:VEVENT
DTSTART;TZID=Africa/Abidjan:20250930T140000
DTEND;TZID=Africa/Abidjan:20250930T171000
DTSTAMP:20260424T055911
CREATED:20250806T152002Z
LAST-MODIFIED:20250814T101347Z
UID:4690-1759240800-1759252200@drosibikes.org
SUMMARY:Fix & Learn Cycle Maintenance - September
DESCRIPTION:Got a squeaky brake you don’t know how to fix? Learn how to fix an issue with your bike with a 30 minute workshop with a qualified mechanic.\n\n\nWhat \nGot a squeaky brake you’re not sure how to fix? Or a broken chain? Dodgy gears? Or maybe just a puncture you’re not sure how to tackle…. \nBook your slot and pop down with your bike during our ‘Fix and Learn’ workshops\, where we’ll show you how to identify and fix the issue. All equipment is provided and no experience is necessary! \nYou will join us for a half hour 1:1 session where a Drosi mechanic will work with you to fix a specific issue with your bike\, if we can’t fix it in the half hour and it’s a bigger job than you thought we will be happy to advise on the ‘what next’. \n \nWho \nThe session is open for anyone aged 8+  (under 14’s require a supervising adult). You don’t need any prior knowledge of bike maintenance to attend. \n \nCost \nThis programme is completely FREE to attend. We are very grateful to The National Lottery who fully fund this programme. (If any parts second hand or new are needed there will be an additional cost for these) \n \nWhen \nRunning monthly – check out our page for other dates and times available. \nWe tend to try and keep the after school slots for young people\,  however\, if you are working please feel free to book a time you can attend.
URL:https://drosibikes.org/event/fix-learn-cycle-maintenance-september/
LOCATION:Drosi Bikes\, Parade Street\, Llangollen\, LL20 8PW\, Llangollen\, LL20 8PW\, GB
ATTACH;FMTTYPE=image/jpeg:https://drosibikes.org/wp-content/uploads/2025/07/4335_image-2-scaled.jpg
END:VEVENT
END:VCALENDAR