BEGIN:VCALENDAR
VERSION:2.0
PRODID:-//Drosi Bikes - ECPv6.15.20//NONSGML v1.0//EN
CALSCALE:GREGORIAN
METHOD:PUBLISH
X-ORIGINAL-URL:https://drosibikes.org
X-WR-CALDESC:Events for Drosi Bikes
REFRESH-INTERVAL;VALUE=DURATION:PT1H
X-Robots-Tag:noindex
X-PUBLISHED-TTL:PT1H
BEGIN:VTIMEZONE
TZID:Africa/Abidjan
BEGIN:STANDARD
TZOFFSETFROM:+0000
TZOFFSETTO:+0000
TZNAME:GMT
DTSTART:20250101T000000
END:STANDARD
END:VTIMEZONE
BEGIN:VEVENT
DTSTART;TZID=Africa/Abidjan:20260203T190000
DTEND;TZID=Africa/Abidjan:20260203T220000
DTSTAMP:20260423T195549
CREATED:20251201T173321Z
LAST-MODIFIED:20251201T173321Z
UID:6671-1770145200-1770156000@drosibikes.org
SUMMARY:'Chasing The Sun' Film night & Panel Discussion
DESCRIPTION:Chasing The Sun: an inspiring film and expert panel revealing the bike’s role in adventure\, community\, and climate solutions.\n\n\nA big-hearted community film night celebrating the power of bikes\, people\, and positive change — right here in Llangollen. \nDrosi Bikes is bringing Chasing The Sun to Llangollen Town Hall for one special evening — and we’re throwing the doors wide open to our local community\, our North Wales neighbours\, and friends over the border who fancy an inspiring night out with purpose. After a successful tour across England\, this is the first screening of the highly rated film\, in North Wales. \nThis uplifting documentary from 2× BAFTA-winning director Michael B. Clifford follows ordinary cyclists taking on the legendary “Chase The Sun” challenge — a coast-to-coast\, sunrise-to-sunset ride that proves just how life-changing a humble bicycle can be. It’s full of heart\, hope\, and stories that stick with you long after the credits roll. \nAfter the film\, we’ll gather for a friendly\, honest panel chat with riders\, makers\, adventurers\, and the director himself — exploring how cycling can bring people together\, spark small but mighty change\, and help us all live a little lighter on the planet. \nThis isn’t just a film night.It’s a chance for our community to connect\, be inspired\, meet brilliant local organisations\, and imagine what’s possible — one pedal stroke at a time. \nWhether you ride daily\, dust your bike off once a decade\, or just love a good story…you’re welcome. Come be part of something special. \n \nWhat to Expect \n\nFull film screening of Chasing The Sun\nPanel discussion with a world-class athlete\, filmmaker\, cycling advocates\, writers and gear experts\nLocal repair stands & sustainable gear displays/sales\nA friendly community evening celebrating cycling\, adventure\, and planet-positive action\nWe’ll also have a fully stocked bar offering soft drinks\, alcoholic options\, and snacks — perfect for a relaxed midweek evening and a bit of pre-film or mid-panel nibbling.\n\n \nAbout Your Hosts: Drosi Bikes \nDrosi Bikes is a community-driven CIC based in Llangollen\, North Wales. We transform discarded bikes and parts into affordable\, reliable rides — reducing waste and keeping good bikes out of landfill. \nBut we’re more than a workshop. Drosi is a friendly hub where people can learn\, ride\, repair and connect. We offer refurbished bikes\, e-bike and cargo bike hire\, hands-on maintenance workshops\, cycle-confidence sessions and inclusive community events. \nEverything we do is rooted in sustainability\, empowerment and bringing people together through cycling — helping our community travel greener\, feel more confident\, and enjoy the freedom of life on two wheels. \n \nExtras \n\nAlpkit will be attending with their ‘gear swap’ stall\nSnowdonia Gear Repair stall with advice\, hand over your gear for repair\, or purchase some of their newly recycled – individually made gear\nBring all your unwanted\, outdoor gear for recycling – there will be a tub for you pop it all in!\nThere will be a fantastic Raffle with tons of prizes and money raised will go straight back into community projects (more info on prizes to come)\nWatch this space for further announcements!!
URL:https://drosibikes.org/event/chasing-the-sun-film-night-panel-discussion/
LOCATION:Llangollen Town Hall\, Castle Street\, Llangollen\, LL20 8NU\, Llangollen\, LL20 8NU\, GB
ATTACH;FMTTYPE=image/png:https://drosibikes.org/wp-content/uploads/2025/12/6671_image.png
END:VEVENT
BEGIN:VEVENT
DTSTART;TZID=Africa/Abidjan:20260210T140000
DTEND;TZID=Africa/Abidjan:20260210T175000
DTSTAMP:20260423T195549
CREATED:20260113T145521Z
LAST-MODIFIED:20260113T145521Z
UID:8654-1770732000-1770745800@drosibikes.org
SUMMARY:Fix & Learn Cycle Maintenance - February
DESCRIPTION:Got a squeaky brake you don’t know how to fix? Learn how to fix an issue with your bike with a 30 minute workshop with a qualified mechanic.\n\n\nWhat \nGot a squeaky brake you’re not sure how to fix? Or a broken chain? Dodgy gears? Or maybe just a puncture you’re not sure how to tackle…. \nBook your slot and pop down with your bike during our ‘Fix and Learn’ workshops\, where we’ll show you how to identify and fix the issue. All equipment is provided and no experience is necessary! \nYou will join us for a half hour 1:1 session where a Drosi mechanic will work with you to fix a specific issue with your bike\, if we can’t fix it in the half hour and it’s a bigger job than you thought we will be happy to advise on the ‘what next’. \n \nWho \nThe session is open for anyone aged 8+  (under 14’s require a supervising adult). You don’t need any prior knowledge of bike maintenance to attend. \n \nCost \nThis programme is completely FREE to attend. We are very grateful to The National Lottery who fully fund this programme. (If any parts second hand or new are needed there will be an additional cost for these) \n \nWhen \nRunning monthly – check out our page for other dates and times available. \nWe tend to try and keep the after school slots for young people\,  however\, if you are working please feel free to book a time you can attend.
URL:https://drosibikes.org/event/fix-learn-cycle-maintenance-february/
LOCATION:LL20 8RB\, Drosi Bikes East Street\, Llangollen\, LL20 8RB\, Llangollen\, LL20 8RB\, GB
ATTACH;FMTTYPE=image/jpeg:https://drosibikes.org/wp-content/uploads/2025/07/4335_image-2-scaled.jpg
END:VEVENT
BEGIN:VEVENT
DTSTART;TZID=Africa/Abidjan:20260221T090000
DTEND;TZID=Africa/Abidjan:20260221T110000
DTSTAMP:20260423T195549
CREATED:20251013T091113Z
LAST-MODIFIED:20251013T091608Z
UID:5242-1771664400-1771671600@drosibikes.org
SUMMARY:Beginners Mountain Bike Coaching
DESCRIPTION:New to the trails\, coming back after a break\, or feeling stuck with your mountain biking skills? This workshop is made for you!\n\n\nJoin the wonderful\, Cheri Mills (AKA Lardy)of ‘Cheri Mills UK Coaching’\, for some small group coaching. During this workshop you will cover the fundamentals of mountain biking to give you a head start in your MTB journey. OR\, maybe you have always wondered what Mountain Biking involves and just want to have a go! \nYou will learn: \n\nCorrect Body Position\nVision\nEffective Braking\nIntro to Cornering\nMomentum\n\nYou’ll be in good hands with Cheri – the terrain is beginner-friendly and your wheels will stay firmly on the ground (no wheelies required!). \nThis relaxed and supportive women+ coaching group is all about building skills at your own pace\, with plenty of encouragement and a few laughs along the way. You’ll come away feeling more confident in your mountain biking technique\, with loads to practise when you’re next out on the trails. \n \nWho is Cheri Mills? \nMountain Bike Skills & Performance Coach\, Guide\, Brand & Includsion Ambassador. \nWith over 30 years of riding and racing experience across the UK and Europe\, Cheri has competed at the highest levels in XC\, Enduro\, Marathon\, and Stage Racing\, earning national titles\, a top 25 finish at the EWS Elite\, a European stage racing medal\, and qualifying for the Gravel World Championships. \n \nAs a coach with 15 years of experience\, you will be in good hands receiving expert knowledge!! With this heavily funded coaching session through Drosi Bikes\, Llangollen \, you will come away wanting to learn more and with a real buzz for MTB ! \n \nImportant Info \nPlease arrive and be ready to ride at least 5 minutes before your session starts. \nPlease bring your own bike and helmet\, if you do not have your own please contact us. \nYou must wear a helmet at all times during the coaching session. \nThe cost includes parking – with thanks to One Planet Adventure. \nAll information will be sent to you in a confirmation email. \n \nCost shouldn’t be a barrier.We’re asking just £15 for this 2-hour coaching session – an incredible value – but we understand that even this can be a stretch sometimes. If money’s a barrier\, please don’t hesitate to get in touch – we’re here to help\, no questions asked. \nIf you can afford the £15\, know that your contribution goes right back into our community – supporting future events\, courses for young and old\, and helping others who might be struggling to access opportunities like this one. \nLet’s lift each other up\, on and off the trails.
URL:https://drosibikes.org/event/beginners-mountain-bike-coaching-4/
LOCATION:OnePlanet Adventure\, Ruthin Road\, Llandegla\, LL11 3AA\, Llandegla\, LL11 3AA\, GB
ATTACH;FMTTYPE=image/jpeg:https://drosibikes.org/wp-content/uploads/2025/10/5242_image.jpg
END:VEVENT
BEGIN:VEVENT
DTSTART;TZID=Africa/Abidjan:20260221T113000
DTEND;TZID=Africa/Abidjan:20260221T133000
DTSTAMP:20260423T195549
CREATED:20251013T091159Z
LAST-MODIFIED:20251013T091159Z
UID:5245-1771673400-1771680600@drosibikes.org
SUMMARY:Intermediate Mountain Bike Coaching
DESCRIPTION:Are you wanting to progress in your mountain biking? Hit a plateau and want some help?\n\n\nJoin the wonderful\, Cheri Mills (AKA Lardy)of ‘Cheri Mills UK Coaching’ for some small group coaching. This is a great coaching session for those of you who have already hit the trails and are happy on blue graded trails at a minimum. Maybe you want to dial in on some specific techniques – helping you to progress and improve your flow on the trails. This session will also be fantastic for those who have recently started on red trails with no professional coaching. \nYou will learn: \n\nBody Position\nVision\nEffective Braking\nCornering\nMomentum\nPLUS – Pumping and Line Choice\n\n \nWho is Cheri Mills? \nMountain Bike Skills & Performance Coach\, Guide\, Brand & Includsion Ambassador. \nWith over 30 years of riding and racing experience across the UK and Europe\, Cheri has competed at the highest levels in XC\, Enduro\, Marathon\, and Stage Racing\, earning national titles\, a top 25 finish at the EWS Elite\, a European stage racing medal\, and qualifying for the Gravel World Championships. \n \nAs a coach with 15 years of experience\, you will be in good hands receiving expert knowledge!! With this heavily funded coaching session through Drosi Bikes\, Llangollen \, you will come away wanting to learn more and with a real buzz to get out on the trails and practice what you have learnt. \n \nImportant Info \nPlease arrive and be ready to ride at least 5 minutes before your session starts. \nPlease bring your own bike and helmet. \nYou must wear a helmet at all times during the coaching session. \nThe cost includes parking – with thanks to One Planet Adventure. \nAll information will be sent to you in a confirmation email. \n \nCost shouldn’t be a barrier. \nWe’re asking just £15 for this 2-hour coaching session – an incredible value – but we understand that even this can be a stretch sometimes. If money’s a barrier\, please don’t hesitate to get in touch – we’re here to help\, no questions asked. \nIf you can afford the £15\, know that your contribution goes right back into our community – supporting future events\, courses for young and old\, and helping others who might be struggling to access opportunities like this one. \nLet’s lift each other up\, on and off the trails.
URL:https://drosibikes.org/event/intermediate-mountain-bike-coaching-3/
LOCATION:OnePlanet Adventure\, Ruthin Road\, Llandegla\, LL11 3AA\, Llandegla\, LL11 3AA\, GB
ATTACH;FMTTYPE=image/png:https://drosibikes.org/wp-content/uploads/2025/07/4342_image.png
END:VEVENT
BEGIN:VEVENT
DTSTART;TZID=Africa/Abidjan:20260221T143000
DTEND;TZID=Africa/Abidjan:20260221T163000
DTSTAMP:20260423T195549
CREATED:20251013T091240Z
LAST-MODIFIED:20251013T091240Z
UID:5248-1771684200-1771691400@drosibikes.org
SUMMARY:Progression Mountain Bike Coaching
DESCRIPTION:Progress your MTB skills with Cheri Mills – refine techniques\, tackle technical terrain & build confidence on the trails.\n\n\nJoin the wonderful\, Cheri Mills (AKA Lardy)of ‘Cheri Mills UK Coaching’ for some small group coaching. Our Progression in Mountain Biking session is designed for riders who already feel comfortable at an intermediate level and want to take things further. With coach Cheri Mills\, you’ll refine key skills like cornering\, body position\, braking and line choice\, while also tackling technical terrain and working on specific techniques you’d like to master. This session is very adaptable and will be tailored to the individuals in the group regarding skills taught. \n \nWho is Cheri Mills? \nMountain Bike Skills & Performance Coach\, Guide\, Brand & Includsion Ambassador. \nWith over 30 years of riding and racing experience across the UK and Europe\, Cheri has competed at the highest levels in XC\, Enduro\, Marathon\, and Stage Racing\, earning national titles\, a top 25 finish at the EWS Elite\, a European stage racing medal\, and qualifying for the Gravel World Championships. \n \nAs a coach with 15 years of experience\, you will be in good hands receiving expert knowledge!! With this heavily funded coaching session through Drosi Bikes\, Llangollen \, you will come away wanting to learn more and with a real buzz to get out on the trails and practice what you have learnt. \n \nImportant Info \nIf you are unsure if this session is for you\, please get in touch with us here at Drosi Bikes. \nPlease arrive and be ready to ride at least 5 minutes before your session starts. \nPlease bring your own bike and helmet. \nYou must wear a helmet at all times during the coaching session. \nThe cost includes parking – with thanks to One Planet Adventure. \nAll information will be sent to you in a confirmation email. \n \nCost shouldn’t be a barrier. \nWe’re asking just £15 for this 2-hour coaching session – an incredible value – but we understand that even this can be a stretch sometimes. If money’s a barrier\, please don’t hesitate to get in touch – we’re here to help\, no questions asked. \nIf you can afford the £15\, know that your contribution goes right back into our community – supporting future events\, courses for young and old\, and helping others who might be struggling to access opportunities like this one. \nLet’s lift each other up\, on and off the trails.
URL:https://drosibikes.org/event/progression-mountain-bike-coaching/
LOCATION:OnePlanet Adventure\, Ruthin Road\, Llandegla\, LL11 3AA\, Llandegla\, LL11 3AA\, GB
ATTACH;FMTTYPE=image/png:https://drosibikes.org/wp-content/uploads/2025/07/4342_image.png
END:VEVENT
END:VCALENDAR